Workbook

Sheet Zał. 1 Formularz oferty
N2: Załącznik nr 1 do Zaproszenia
N3: - wzór formularza ofertowego
G6: Formularz oferty
B8: Zamawiający:
B9: Polska Akademia Nauk
B10: Plac Defilad 1, 00-901 Warszawa
B11: adres e-mail: dun@pan.pl
C14: Nazwa i adres Wykonawcy:
C15: …………………………………………………………………………………………………..
C17: NIP ......................... REGON....................... KRS……………..
C18: Adres, na który Zamawiający powinien przesyłać ewentualną korespondencję:
C19: …………………………………………………………………………………………………...
C20: Osoba wyznaczona do kontaktów z Zamawiającym:
C21: …………………………………………………………………………………………………...
C22: Numer telefonu: ……………..
C23: e-mail ....................................
C26: W odpowiedzi na ZAPROSZENIE DO SKŁADANIA OFERT w celu rozeznania rynku cen „Świadczenie usług w zakresie druku, oprawy introligatorskiej i dostawy do siedziby Zamawiającego publikacji i materiałów wydawniczych Polskiej Akademii Nauk” z możliwością udzielenia zamówieniasprawa nr BUN.261.12.2025
C29: Oferujemy wykonanie przedmiotu zamówienia za następującą CENĘ brutto:
C31: CENA BRUTTO OFERTY: ………………………….……………………………………. Zł
... C35: (słownie: ………………………………………………)

Sheet Zał.1a_druk_cyfrowy-podstaw. 
A1: Załącznik 1a do Formularza Ofertowego (Tabela A) Formularz cenowy do druku cyfrowego - podstawowego (załącznik nr 1)
A2: L.p. | B2: Tytuł | C2: Format | D2: Nakład | E2: Częstoliwość ukazywania się | F2: Orientacyjna średnia liczba stron środka 1+1 w nakładzie rocznym | G2: Średnia liczba stron środka CMYK w nakładzie rocznym + okładka (strony porozrzucane, nie występują w każdym zeszycie) | H2: Rodzaj papieru | J2: Druk i uszlachetnienie | M2: Szacowanie
H3: Środek | I3: Okładka | J3: Okładka | K3: Oprawa | L3: Format po obcięciu | M3: Kalkulacja netto z kalkulatora internetowego x liczba nakładów | N3: Stawka podatku VAT | O3: Wartość podatku VAT w PLN | P3: Wartość brutto w PLN
A4: 1 | B4: 2 | C4: 3 | D4: 4 | E4: 5 | F4: 6 | G4: 7 | H4: 8 | I4: 9 | J4: 10 | K4: 11 | L4: 12 | M4: 14 | N4: 15 | O4: 16 | P4: 17
A5: 1 | B5: CEJEME | C5: B5 | D5: 4 x 70 | E5: Kwartalnik | F5: 424 | G5: 16 | H5: kreda mat 115 g/m2 | I5: kreda mat 350 g/m2 | J5: I i IV - 3xPANTON, folia matowa, II i III zadruk czrny | K5: klejona | L5: wg przekazanego wzoru | M5: 0 | N5: 0.08 | O5: =PRODUCT(M5,N5) -> 0 | P5: =SUM(M5,O5) -> 0
A6: 2 | B6: Przyszłość energii | C6: B5 | D6: 1 x 100 | E6: Publikacja zwarta/seria wydawnicza | F6: 340 | G6: 20 | H6: offset 80 g/m2 | I6: karton jednostronnie powlekany 250 g/m2 | J6: 4+0, folia błyszcząca | K6: klejona | L6: wg przekazanego wzoru | N6: 0.05
A7: 3 | B7: Wiedza o finansach publicznych dla licealistów i studentów | C7: B5 | D7: 1 x 300 | E7: Publikacja zwarta/seria wydawnicza | F7: 340 | G7: 24 | H7: offset 80 g/m2 | I7: karton jednostronnie powlekany 250 g/m2 | J7: 4+0, folia błyszcząca | K7: klejona | L7: wg przekazanego wzoru | N7: 0.05
A8: 4 | B8: Per Mare ad Astra - Spoce Technology, Governence and Law vol. 4 | C8: B5 | D8: 1 x 150 | E8: Publikacja zwarta/seria wydawnicza | F8: 174 | G8: 32 | H8: offset 80 g/m2 | I8: karton jednostronnie powlekany 250 g/m2 | J8: I i IV kolor , folia błyszcząca, II i III zadruk czarny | K8: klejona | L8: wg przekazanego wzoru | N8: 0.05
A9: 5 | B9: Oddziaływanie fali uderzeniowej z warstwą przyścienną na profilu sprężarki lotniczej | C9: B5 | D9: 1 x 100 | E9: Publikacja zwarta/seria wydawnicza | F9: 300 | G9: 46 | H9: offset 80 g/m2 | I9: karton jednostronnie powlekany 250 g/m2 | J9: 4+0, folia błyszcząca | K9: klejona | L9: wg przekazanego wzoru | N9: 0.05
A10: 6 | B10: Ekspertyza: Gospodarka osadami ściekowymi | C10: B5 | D10: 1 x 50 | E10: Ekspertyza | F10: 62 | G10: 10 | H10: offset 80 g/m2 | I10: karton jednostronnie powlekany 250 g/m2 | J10: 4+0, folia błyszcząca | K10: klejona | L10: wg przekazanego wzoru | N10: 0.05
A11: 7 | B11: Ekspertyza: Opinia Komitetu Elektrotechniki Polskiej Akademii Nauk w sprawie wdrożenia energetyki jądrowej w Polsce | C11: B5 | D11: 1 x 100 | E11: Ekspertyza | F11: 22 | G11: 5 | H11: offset 80 g/m2 | I11: karton jednostronnie powlekany 250 g/m2 | J11: 4+1, folia błyszcząca | K11: klejona | L11: wg przekazanego wzoru | N11: 0.23
A12: 8 | B12: Kodeks Etyczny Pracownika Naukowego | C12: A5 (13,998 cm x 20,048 cm) | D12: 1 x 300 | E12: 1 raz w roku | F12: 24 | G12: 0 | H12: offset 80 g/m2 | I12: karton jednostronnie powlekany 250 g/m2 | J12: 4+0, folia błyszcząca | K12: broszurowa | L12: wg przekazanego wzoru | N12: 0.23
L13: RAZEM | M13: =SUM(M6:M12) -> 0 | O13: =SUM(O6:O12) -> 0 | P13: =SUM(P6:P12) -> 0

Sheet Zał.1b_drukoffsetowy-podstaw.
A1: Załącznik 1b do Formularza Ofertowego (Tabela B) Formularz cenowy do druku offsetowego - podstawowego (załącznik nr 1)
H2: Papier | J2: Druk i uszlachetnienie | M2: Szacowanie
A3: L.p. | B3: Tytuł | C3: Format | D3: Nakład | E3: Częstoliwość ukazywania się | F3: Orientacyjna średnia liczba stron środka 1+1 w nakładzie rocznym | G3: Średnia liczba stron środka CMYK w nakładzie rocznym | H3: Środek | I3: Okładka | J3: Okładka DRUK | K3: Uszlachetnianie | L3: Oprawa | M3: Kalkulacja netto z kalkulatora internetowego x liczba nakładów | N3: Stawka podatku % VAT | O3: Wartość podatku VAT w PLN | P3: Wartość brutto w PLN
A4: 1 | B4: 2 | C4: 3 | D4: 4 | E4: 5 | F4: 6 | G4: 7 | H4: 8 | I4: 9 | J4: 10 | K4: 11 | L4: 12 | M4: 13 | N4: 14 | O4: 15 | P4: 16
A5: 1 | B5: Nauka | C5: 170 x 240 mm | D5: 3 x 500 | E5: Kwartalnik | F5: 600 | G5: 50 | H5: kreda mat 115 g/m2 | I5: kreda mat 250 g/m2 | J5: 4+0 | K5: folia matowa | L5: broszurowa klejona | N5: 0.08 | O5: =PRODUCT(M5,N5) -> 0.08 | P5: =SUM(M5,O5) -> 0.08
A6: 2 | B6: Wybitni uczeni we wspomnieniach | C6: 170 x 240 mm | D6: 1 x 1000 | E6: 1 wydanie w roku | F6: 236 + 4 (CMYK) | H6: kreda mat 115 g/m2 | I6: kreda matowa 300 g/m2 | J6: 4+0 | K6: folia matowa | L6: broszurowa klejona, grzbiet wzmacniany nićmi, klej PUR | N6: 0.05 | O6: =PRODUCT(M6,N6) -> 0.05 | P6: =SUM(M6,O6) -> 0.05
L7: Razem | M7: =SUM(M6:M6) -> 0 | O7: =SUM(O6:O6) -> 0.05 | P7: =SUM(P6:P6) -> 0.05

Sheet Zał.1c_druk_niestandardowy
A1: Załącznik 1c do Formularza Ofertowego (Tabela C) Formularz cenowy do druku cyfrowego - podstawowego (załącznik nr 1)
A2: L.p. | B2: Tytuł rodzaju druku | C2: Format | D2: Ilość sztuk | E2: Kolor | F2: Czarno-biały | G2: Rodzaj papieru | I2: Druk i uszlachetnienie | M2: Szacowanie
G3: Środek | H3: Okładka | I3: Okładka | J3: Oprawa | K3: Format po obcięciu | L3: Uwagi | M3: Kalkulacja netto z kalkulatora internetowego x liczba nakładów | N3: Stawka podatku VAT | O3: Wartość podatku VAT w PLN | P3: Wartość brutto w PLN
A4: 1 | B4: 2 | C4: 3 | D4: 4 | E4: 6 | F4: 7 | G4: 8 | H4: 9 | I4: 10 | J4: 11 | K4: 12 | L4: 13 | M4: 14 | N4: 15 | O4: 16 | P4: 17
A5: 1 | B5: Roll up - konferencji Histories of Violence | C5: 85 x 200 cm | D5: 1 | E5: kolor jednostronny | G5: folia poliestrowa 250 mic. | J5: Zestaw: grafika + kaseta | M5: 0 | N5: 0.23 | O5: =PRODUCT(M5,N5) -> 0 | P5: =SUM(M5,O5) -> 0
A6: 2 | B6: Roll up - Komitet Nauk Demograficznych | C6: 120 x 200 cm | D6: 3 | E6: kolor | G6: folia poliestrowa 250 mic. | J6: Zestaw: grafika + kaseta | N6: 0.23
A7: 3 | B7: Program konferencji Sztuczna Inteligencja w rolnictwie i biotechnologii | C7: A5 | D7: 90 | E7: kolor | G7: offset 80 g/m2 | H7: karton jednostronnie powlekany 250 g/m2 | I7: 4+0, folia błyszcząca | J7: klejona | K7: wg przekazanego wzoru | N7: 0.23
A8: 4 | B8: Program konferencji Autonomia, nierówność i sprawiedliwość reprodukcyjna (Komitet Nauk Demograficznych) | C8: A4 | D8: 200 | E8: kolor | G8: offset 80 g/m2 | H8: karton jednostronnie powlekany 250 g/m2 | I8: 4+0, folia błyszcząca | J8: klejona | K8: wg przekazanego wzoru | N8: 0.23
A9: 5 | B9: Program konferencji Histories of Violence | C9: A4 | D9: 150 | E9: kolor | G9: offset 80 g/m2 | H9: karton jednostronnie powlekany 250 g/m2 | I9: 4+0, folia błyszcząca | J9: klejona | K9: wg przekazanego wzoru | N9: 0.23
A10: 6 | B10: Plakat konferencji Histories of Violence | C10: A2 | D10: 5 | E10: kolor | G10: 170 m2 | I10: papier kredowy, mat | N10: 0.23
L11: Razem | M11: =SUM(M6:M10) -> 0 | O11: =SUM(O6:O10) -> 0 | P11: =SUM(P6:P10) -> 0

Sheet Zał.1d_opcja
A1: Załącznik 1d do Formularza Ofertowego (Tabela D) Formularz cenowy do zamówienia w ramach opcji (załącznik nr 1)
A2: Druk cyfrowy
H3: Papier | J3: Druk i uszlachetnienie | M3: Szacowanie
A4: L.p. | B4: Tytuł | C4: Format | D4: Nakład | E4: Częstoliwość ukazywania się | F4: Orientacyjna średnia liczba stron środka 1+1 w nakładzie rocznym | G4: Średnia liczba stron środka CMYK w nakładzie rocznym (strony porozrzucane, nie zawsze występują w każdym zeszycie) | H4: Środek | I4: Okładka | J4: Okładka DRUK | K4: Uszlachetnianie | L4: Oprawa | M4: Kalkulacja netto z kalkulatora internetowego x liczba nakładów | N4: Stawka podatku VAT | O4: Wartość podatku VAT w PLN | P4: Wartość brutto w PLN
A5: 1 | B5: 2 | C5: 3 | D5: 4 | E5: 5 | F5: 6 | G5: 7 | H5: 8 | I5: 9 | J5: 10 | K5: 11 | L5: 12 | M5: 13 | N5: 14 | O5: 15 | P5: 16
A7: 1 | B7: Monografie naukowe / inne materiały wydawnicze | C7: A5/B5 | D7: 8 x 200 | E7: Nieregularnie w trakcie trwania umowy | F7: 2500 | G7: 120 | H7: offset 80 g/m2 | I7: karton jednostronnie powlekany 250 g/m2 | J7: 4+0 | K7: Folia błysk/mat | L7: broszurowa, klejona | N7: 0.05 | O7: =PRODUCT(M7,N7) -> 0.05 | P7: =SUM(M7,O7) -> 0.05
L8: Razem | M8: =SUM(M7:M7) -> 0 | O8: =SUM(O7:O7) -> 0.05 | P8: =SUM(P7:P7) -> 0.05
A9: Druk offsetowy
H10: Papier | J10: Druk i uszlachetnienie | M10: Szacowanie
A11: L.p. | B11: Tytuł | C11: Format w mm | D11: Nakład | E11: Częstoliwość ukazywania się | F11: Orientacyjna średnia liczba stron środka 1+1 w nakładzie rocznym | G11: Średnia liczba stron środka CMYK w nakładzie rocznym (strony porozrzucane, nie zawsze występują w każdym zeszycie) | H11: Środek | I11: Okładka | J11: Okładka DRUK | K11: Uszlachetnianie | L11: Oprawa | M11: Kwota netto z poprzedniej umowy | N11: Stawka podatku VAT | O11: Wartość podatku VAT w PLN | P11: Wartość brutto w PLN
A12: 1 | B12: 2 | C12: 3 | D12: 4 | E12: 5 | F12: 6 | G12: 7 | H12: 8 | I12: 9 | J12: 10 | K12: 11 | L12: 12 | M12: 13 | N12: 14 | O12: 15 | P12: 16
A13: 1 | B13: Academia wersja polska powiększenie/zmniejszenie objętości o 4 kolumny | C13: 205 x 295 | D13: 8 x 1500 | E13: Nieregularnie w trakcie trwania umowy_dodatkowa składka | F13: składka 4-stronicowa | H13: kreda mat 115 g/m2 | J13: 4+4 | L13: broszurowa klejona, grzbiet wzmacniany nićmi, klej PUR | M13: 6000 | N13: 0.08 | O13: =PRODUCT(M13,N13) -> 480 | P13: =SUM(M13,O13) -> 6480
A14: 2 | B14: Academia wersja angielska powiększenie/zmniejszenie objętości o 4 kolumny | C14: 206 x 295 | D14: 8 x 500 | E14: Nieregularnie w trakcie trwania umowy_dodatkowa składka | F14: składka 4-stronicowa | H14: kreda mat 115 g/m2 | J14: 4+4 | L14: broszurowa klejona, grzbiet wzmacniany nićmi, klej PUR | M14: 3200 | N14: 0.08 | O14: =PRODUCT(M14,N14) -> 256 | P14: =SUM(M14,O14) -> 3456
A15: 3 | B15: Academia wersja polska powiększenie/zmniejszenie objętości o 8 kolumn | C15: 205 x 295 | D15: 8 x 1500 | E15: Nieregularnie w trakcie trwania umowy_dodatkowa składka | F15: składka 8-stronicowa | H15: kreda mat 115 g/m2 | J15: 4+4 | L15: broszurowa klejona, grzbiet wzmacniany nićmi, klej PUR | M15: 9000 | N15: 0.08 | O15: =PRODUCT(M15,N15) -> 720 | P15: =SUM(M15,O15) -> 9720
A16: 4 | B16: Academia wersja angielska powiększenie/zmniejszenie objętości o 8 kolumn | C16: 206 x 295 | D16: 8 x 500 | E16: Nieregularnie w trakcie trwania umowy_dodatkowa składka | F16: składka 8-stronicowa | H16: kreda mat 115 g/m2 | J16: 4+4 | L16: broszurowa klejona, grzbiet wzmacniany nićmi, klej PUR | M16: 5600 | N16: 0.08 | O16: =PRODUCT(M16,N16) -> 448 | P16: =SUM(M16,O16) -> 6048
B17: Formularz cenowy musi być opatrzony przez osobę lub osoby uprawnione do reprezentowania firmy kwalifikowanym podpisem elektronicznym, podpisem zaufanym lub podpisem osobistym i przekazane Zamawiającemu wraz z dokumentami potwierdzającymi prawo do reprezentacji Wykonawcy przez osobę podpisującą ofertę. | L17: Razem | M17: =SUM(M13:M16) -> 23800 | O17: =SUM(O13:O16) -> 1904 | P17: =SUM(P13:P16) -> 25704

Sheet RAZEM
C5: netto
C6: podstawa druk cyfrowy | D6: podstawa druk offsetowy | E6: PODSTAWA RAZEM | F6: opcja | G6: OPCJA RAZEM | H6: RAZEM
C7: =RAZEM!M12+RAZEM!M11 -> 0 | D7: ='Zał.1b_drukoffsetowy-podstaw.'!M7 -> 0 | E7: =SUM(C7,D7) -> 0 | F7: =RAZEM!N7 -> 0 | G7: =SUM(F7) -> 0 | H7: =SUM(E7,G7) -> 0
C10: brutto
C11: podstawa druk cyfrowy | D11: podstawa druk offsetowy | E11: PODSTAWA RAZEM | F11: opcja | G11: OPCJA RAZEM | H11: RAZEM
C12: =RAZEM!P12+RAZEM!P11 -> 0 | D12: =RAZEM!P7 -> 0 | E12: =SUM(C12:D12) -> 0 | F12: =RAZEM!P7 -> 0 | G12: =SUM(F12) -> 0 | H12: =SUM(E12,G12) -> 0
