Workbook
Name _a65542: #REF!
Name _a65542: #REF!

Sheet Załącznik nr 2
A1: rozdział paragraf | B1: Wyszczególnienie | C1: PROPOZYCJA PODZIAŁU kwot do ustawy budżetowej na rok 2021 (w zł)
A3: 0 | B3: 1 | C3: 2
A4: 73010 | B4: Działalność organów i korporacji uczonych PAN | C4: =C5 -> 17419000
A5: § 2570 | B5: Dotacja podmiotowa z budżetu dla pozostałych jednostek sektora finansów publicznych | C5: 17419000
B6: Koszty działalności statutowej organów Akademii i korporacji uczonych PAN | C6: =C5-C7 -> 13489000
B7: Wyodrębnione zadania z zakresu upowszechniania i promocji działalności naukowej | C7: ='Załącznik nr 3 DO DECYZJI'!B33 -> 3930000
A8: 73011 | B8: Działalność pomocniczych jednostek naukowych i innych jednostek organizacyjnych PAN | C8: =SUM(C9:C11) -> 41044000
A9: § 2570 | B9: Dotacja podmiotowa z budżetu dla pozostałych jednostek sektora finansów publicznych | C9: 39277000
A10: § 6220 | B10: Dotacje celowe z budżetu na finansowanie lub dofinansowanie kosztów realizacji inwestycji i zakupów inwestycyjnych innych jednostek sektora finansów publicznych | C10: ='Załącznik nr 3 DO DECYZJI'!C28 -> 0
A11: § 6560 | B11: Dotacje celowe przekazane z budżetu na finansowanie lub dofinansowanie zadań inwestycyjnych obiektów zabytkowych jednostkom zaliczanym do sektora finansów publicznych | C11: 1767000
A12: § 6209 | B12: Dotacje celowe w ramach programów finansowanych z udziałem środków europejskich oraz środków, o których mowa w art. 5 ust. 1 pkt 3 oraz ust. 3 pkt 5 i 6 ustawy, lub płatności w ramach budżetu środków europejskich, z wyłączeniem wydatków klasyfikowanych w paragrafie 625 | C12: ='Załącznik nr 3 DO DECYZJI'!#REF! -> #REF!
A13: 73095 | B13: Pozostała działalność | C13: =C14+C20+C19 -> 33364000
A14: § 2570 | B14: Dotacja podmiotowa z budżetu dla pozostałych jednostek sektora finansów publicznych | C14: ='Załącznik nr 3 DO DECYZJI'!B34+'Załącznik nr 3 DO DECYZJI'!B29 -> 30764000
B15: Budżet realizowany centralnie przez Kancelarię PAN | C15: =30764000-C18 -> 29490000
B16: Finansowanie współpracy naukowej z zagranicą
B17: Wyodrębnione zadania z zakresu upowszechniania i promocji działalności naukowej
B18: Dotacja podmiotowa dla Międzynarodowego Instytutu Biologii Molekularnej i Komórkowej | C18: ='Załącznik nr 3 DO DECYZJI'!B29 -> 1274000
A19: § 6220 | B19: Dotacje celowe z budżetu na finansowanie lub dofinansowanie kosztów realizacji inwestycji i zakupów inwestycyjnych innych jednostek sektora finansów publicznych | C19: ='Załącznik nr 3 DO DECYZJI'!C34 -> 2000000
A20: § 6560 | B20: Dotacje celowe przekazane z budżetu na finansowanie lub dofinansowanie zadań inwestycyjnych obiektów zabytkowych jednostkom zaliczanym do sektora finansów publicznych | C20: ='Załącznik nr 3 DO DECYZJI'!D34 -> 600000
B21: RAZEM DZIAŁ 730 SZKOLNICTWO WYŻSZE I NAUKA | C21: =C4+C8+C13 -> 91827000
B22: Dział 752 Obrona narodowa | C22: 5000
B23: ŁĄCZNIE CZĘŚĆ 67 POLSKA AKADEMIA NAUK | C23: =C21+C22 -> 91832000

Sheet Załącznik nr 3 DO DECYZJI
A1: Wyszczególnienie | B1: Dotacja podmiotowa § 2570 | C1: Dotacja celowa na inwestycje § 6220 | D1: Dotacja celowa na inwestycje w obiektach zabytkowych § 6560 | E1: RAZEM
A2: Pomocnicze jednostki naukowe | B2: =SUM(B3:B9) -> 27579000 | C2: =SUM(C3:C9) -> 0 | D2: =SUM(D3:D9) -> 0 | E2: =SUM(E3:E9) -> 27579000
A3: Biblioteka Gdańska | B3: 6390000 | E3: =SUM(B3:D3) -> 6390000
A4: Biblioteka Kórnicka | B4: 4669000 | E4: =SUM(B4:D4) -> 4669000
A5: Archiwum w Warszawie | B5: 2011000 | E5: =SUM(B5:D5) -> 2011000
A6: Archiwum Nauki PAN i PAU w Krakowie | B6: 701000 | E6: =SUM(B6:D6) -> 701000
A7: Muzeum Ziemi | B7: 3202000 | E7: =SUM(B7:D7) -> 3202000
A8: Polski Instytut Studiów Zaawansowanych PIASt | B8: 1896000 | E8: =SUM(B8:D8) -> 1896000
A9: Stacje zagraniczne | B9: =SUM(B10:B16) -> 8710000 | C9: =SUM(C10:C15) -> 0 | D9: =SUM(D10:D15) -> 0 | E9: =SUM(E10:E16) -> 8710000
A10: Centrum Badań Historycznych w Berlinie | B10: 1965500 | E10: =SUM(B10:D10) -> 1965500
A11: Biuro Promocji Nauki PolSCA w Brukseli | B11: 853000 | E11: =SUM(B11:D11) -> 853000
A12: Przedstawicielstwo Polska Akademia Nauk w Kijowie | B12: 589400 | E12: =SUM(B12:D12) -> 589400
A13: Stacja Naukowa w Paryżu | B13: 1486000 | E13: =SUM(B13:D13) -> 1486000
A14: Stacja Naukowa w Rzymie | B14: 1069500 | E14: =SUM(B14:D14) -> 1069500
A15: Stacja Naukowa w Wiedniu | B15: 1576000 | E15: =SUM(B15:D15) -> 1576000
A16: Inne zadania realizowane w ramach działalności zagranicznych stacji naukowych | B16: =1220600-50000 -> 1170600 | E16: =SUM(B16:D16) -> 1170600
A17: Placówki naukowe nieposiadające osobowości prawnej | B17: =SUM(B18:B19) -> 7349000 | C17: =SUM(C18:C19) -> 0 | D17: =SUM(D18:D19) -> 0 | E17: =SUM(E18:E19) -> 7349000
A18: Zakład Ichtiobiologii i Gospodarki Rybackiej | B18: 1674000 | E18: =SUM(B18:D18) -> 1674000
A19: Ogród Botaniczny Centrum Zachowania Różnorodności Biologicznej | B19: 5675000 | E19: =SUM(B19:D19) -> 5675000
A20: Inne jednostki organizacyjne | B20: =SUM(B21:B25) -> 2542000 | C20: =SUM(C21:C25) -> 0 | D20: =SUM(D21:D25) -> 0 | E20: =SUM(E21:E25) -> 2542000
A21: Dom Seniora | B21: =1423000+100000 -> 1523000 | E21: =SUM(B21:D21) -> 1523000
A22: Dom Zjazdów i Konferencji w Jabłonnie | B22: 517000 | E22: =SUM(B22:D22) -> 517000
A23: Dom Pracy Twórczej w Wierzbie | B23: 21000 | E23: =SUM(B23:D23) -> 21000
A24: Zakład Doświadczalny w Kórniku | B24: 0 | E24: =SUM(B24:D24) -> 0
A25: Zakład Działalności Pomocniczej | B25: 481000 | E25: =SUM(B25:D25) -> 481000
A26: Inne zadania jednostek krajowych | B26: =39277000-(B2+B17+B20) -> 1807000 | D26: 1767000 | E26: =SUM(B26:D26) -> 3574000
A27: w tym: środki na DUN | E27: =SUM(B27:D27) -> 0
A28: RAZEM rozdział 73011 | B28: =B2+B17+B20+B26 -> 39277000 | C28: =C2+C17+C20+C26 -> 0 | D28: =D2+D17+D20+D26 -> 1767000 | E28: =E2+E17+E20+E26 -> 41044000
A29: Rozdział 73095 - dotacje dla instytutów, z tego: | B29: =SUM(B30:B30) -> 1274000 | C29: =SUM(C30:C30) -> 0 | D29: =SUM(D30:D30) -> 0 | E29: =SUM(E30:E30) -> 1274000
A30: Międzynarodowy Instytut Biologii Molekularnej i Komórkowej | B30: 1274000 | E30: =SUM(B30:D30) -> 1274000
A31: Budżet realizowany centralnie - przez Kancelarię PAN, z tego: | B31: =B32+B34 -> 46909000 | C31: =C32+C34 -> 2000000 | D31: =D32+D34 -> 600000 | E31: =E32+E34 -> 49509000
A32: Rozdział 73010 | B32: 17419000 | E32: =SUM(B32:D32) -> 17419000
A33: w tym: środki na zadania z zakresu upowszechniania i promocji działalności naukowej | B33: 3930000 | E33: =SUM(B33:D33) -> 3930000
A34: Rozdział 73095 | B34: =30764000-B30 -> 29490000 | C34: 2000000 | D34: 600000 | E34: =SUM(B34:D34) -> 32090000
A35: w tym: środki na zadania z zakresu upowszechniania i promocji działalności naukowej | B35: 1230000 | E35: =SUM(B35:D35) -> 1230000
A36: ŁĄCZNIE CZĘŚĆ 67 PAN | B36: =B28+B29+B32+B34 -> 87460000 | C36: =C28+C29+C32+C34 -> 2000000 | D36: =D28+D29+D32+D34 -> 2367000 | E36: =E28+E29+E32+E34 -> 91827000
A37: *) zgodnie z wnioskiem Prezesa PAN z dnia 7 grudnia 2012 roku beneficjentem środków będzie po uzyskaniu zgody MNiSW Zakład Działalności Pomocniczej
B39: 80293000 | C39: 158000 | D39: 2340000 | E39: 83187000
B40: =B39-B36 -> -7167000 | C40: =C39-C36 -> -1842000 | D40: =D39-D36 -> -27000 | E40: =E39-E36 -> -8640000
B42: =B29+B34 -> 30764000
E43: =E29+E34 -> 33364000
C45: =E32 -> 17419000
C46: =E2-E8-E9+E17+E20+E26+'Załącznik nr 2'!C15+'Załącznik nr 2'!C17+'Załącznik nr 2'!#REF!+'Załącznik nr 2'!C19+'Załącznik nr 2'!C20 -> #REF!
C47: =B29+'Załącznik nr 2'!C16+E8+E9 -> 11880000
C48: =SUM(C45:C47) -> #REF!
