Workbook

Sheet RS-PF-JO 1z2
F2: Załącznik nr 2
B3: ……………………………………………………… | F3: RS-PF-JO
B4: (pieczęć i nazwa jednostki)
A5: WYKONANIE PLANU FINANSOWEGO ZA ROK 20….
A6: L.p. | B6: Wyszczególnienie | C6: Plan na 20…. rok po zmianach | D6: Wykonanie na 31.12.20….r. a) | E6: w tym:
E7: pozycje rozliczone w ciężar dotacji budżetowej cz. 67 (wydatek) | F7: pozycje rozliczone w ciężar innych dotacji (wydatek)
A8: 0 | B8: 1 | C8: 2 | D8: 3 | E8: 4 | F8: 5
B9: Stan środków pieniężnych na początek roku
B10: Stan należności na początek roku | E10: x | F10: x
B11: Stan zobowiązań na początek roku
A12: I. | B12: PRZYCHODY OGÓŁEM | C12: =C13+C14+C15 -> 0 | D12: =D13+D14+D15 -> 0 | E12: =E15 -> 0 | F12: =F15 -> 0
A13: 1. | B13: Przychody z prowadzonej działalności | E13: x | F13: x
A14: 2. | B14: Pozostałe przychody | E14: x | F14: x
A15: 3. | B15: Dotacje z budżetu państwa lub budżetów jednostek samorządu terytorialnego, z tego:
B16: dotacja podmiotowa
B17: dotacja celowa na inwestycje
B18: inne dotacje celowe
A19: II. | B19: KOSZTY OGÓŁEM | C19: 0 | D19: 0 | E19: 0 | F19: 0
A20: 1. | B20: Amortyzacja
B21: amortyzacja od środków trwałych zakupionych z dotacji
A22: 2. | B22: Wynagrodzenia i składki od nich naliczane
A23: 3. | B23: Zakup towarów i usług
A24: 4. | B24: Płatności odsetkowe wynikające z zaciągniętych zobowiązań
A25: 5. | B25: Pozostałe koszty
A26: III. | B26: Środki na wydatki majątkowe, z tego: | C26: =C27+C31 -> 0 | D26: =D27+D31 -> 0 | E26: =E27+E31 -> 0 | F26: =F27+F31 -> 0
A27: 1. | B27: inwestycje budowlane | C27: =SUM(C28:C30) -> 0 | D27: =SUM(D28:D30) -> 0 | E27: =E28 -> 0 | F27: =F28 -> 0
A28: 1.1. | B28: z dotacji celowej
A29: 1.2. | B29: z projektów
A30: 1.3. | B30: ze środków własnych
A31: 2. | B31: zakupy inwestycyjne | C31: =SUM(C32:C34) -> 0 | D31: =SUM(D32:D34) -> 0 | E31: =E32 -> 0 | F31: =F32 -> 0
A32: 2.1. | B32: z dotacji celowej
A33: 2.2. | B33: z projektów
A34: 2.3. | B34: ze środków własnych
B35: Stan środków pieniężnych na koniec roku
B36: Stan należności na koniec roku
B37: Stan zobowiązań na koniec roku
B38: a) na podstawie ksiąg rachunkowych
B40: ………………………………………………………………………….., ………………... 20….…r. | C40: …………………………………………. | F40: …………………………………….
B41: miejscowość data | C41: osoba, której powierzono prowadzenie ksiąg rachunkowych | F41: Dyrektor jednostki

Sheet RS-PF-JO 2z2
E1: RS-PF-JO
A2: Objaśnienia do różnic pomiędzy wielkościami planowanymi i faktycznie zrealizowanymi:
B3: Plan | C3: Wykonanie | D3: Różnica | E3: Objaśnienia
A4: Stan środków pieniężnych na początek roku | B4: ='RS-PF-JO 1z2'!C9 -> 0 | C4: ='RS-PF-JO 1z2'!D9 -> 0 | D4: =C4-B4 -> 0
A5: Stan należności na początek roku | B5: ='RS-PF-JO 1z2'!C10 -> 0 | C5: ='RS-PF-JO 1z2'!D10 -> 0 | D5: =C5-B5 -> 0
A6: Stan zobowiązań na początek roku | B6: ='RS-PF-JO 1z2'!C11 -> 0 | C6: ='RS-PF-JO 1z2'!D11 -> 0 | D6: =C6-B6 -> 0
A7: Przychody z prowadzonej działalności | B7: ='RS-PF-JO 1z2'!C13 -> 0 | C7: ='RS-PF-JO 1z2'!D13 -> 0 | D7: =C7-B7 -> 0
A8: Pozostałe przychody | B8: ='RS-PF-JO 1z2'!C14 -> 0 | C8: ='RS-PF-JO 1z2'!D14 -> 0 | D8: =C8-B8 -> 0
A9: KOSZTY | B9: ='RS-PF-JO 1z2'!C19 -> 0 | C9: ='RS-PF-JO 1z2'!D19 -> 0 | D9: =C9-B9 -> 0 | E9: objaśnienia bezwględnie wymagane w sytuacji przekroczenia planowanych kosztów
A10: Amortyzacja | B10: ='RS-PF-JO 1z2'!C20 -> 0 | C10: ='RS-PF-JO 1z2'!D20 -> 0 | D10: =C10-B10 -> 0
A11: Wynagrodzenia i składki od nich naliczane | B11: ='RS-PF-JO 1z2'!C22 -> 0 | C11: ='RS-PF-JO 1z2'!D22 -> 0 | D11: =C11-B11 -> 0
A12: Zakup towarów i usług | B12: ='RS-PF-JO 1z2'!C23 -> 0 | C12: ='RS-PF-JO 1z2'!D23 -> 0 | D12: =C12-B12 -> 0
A13: Płatności odsetkowe wynikające z zaciągniętych zobowiązań | B13: ='RS-PF-JO 1z2'!C24 -> 0 | C13: ='RS-PF-JO 1z2'!D24 -> 0 | D13: =C13-B13 -> 0
A14: Pozostałe koszty | B14: ='RS-PF-JO 1z2'!C25 -> 0 | C14: ='RS-PF-JO 1z2'!D25 -> 0 | D14: =C14-B14 -> 0
A15: Środki na wydatki majątkowe, z tego: | B15: ='RS-PF-JO 1z2'!C26 -> 0 | C15: ='RS-PF-JO 1z2'!D26 -> 0 | D15: =C15-B15 -> 0
A16: inwestycje budowlane | B16: ='RS-PF-JO 1z2'!C27 -> 0 | C16: ='RS-PF-JO 1z2'!D27 -> 0 | D16: =C16-B16 -> 0
A17: z dotacji celowej | B17: ='RS-PF-JO 1z2'!C28 -> 0 | C17: ='RS-PF-JO 1z2'!D28 -> 0 | D17: =C17-B17 -> 0
A18: z projektów | B18: ='RS-PF-JO 1z2'!C29 -> 0 | C18: ='RS-PF-JO 1z2'!D29 -> 0 | D18: =C18-B18 -> 0
A19: ze środków własnych | B19: ='RS-PF-JO 1z2'!C30 -> 0 | C19: ='RS-PF-JO 1z2'!D30 -> 0 | D19: =C19-B19 -> 0
A20: zakupy inwestycyjne | B20: ='RS-PF-JO 1z2'!C31 -> 0 | C20: ='RS-PF-JO 1z2'!D31 -> 0 | D20: =C20-B20 -> 0
A21: z dotacji celowej | B21: ='RS-PF-JO 1z2'!C32 -> 0 | C21: ='RS-PF-JO 1z2'!D32 -> 0 | D21: =C21-B21 -> 0
A22: z projektów | B22: ='RS-PF-JO 1z2'!C33 -> 0 | C22: ='RS-PF-JO 1z2'!D33 -> 0 | D22: =C22-B22 -> 0
... A26: Stan zobowiązań na koniec roku | B26: ='RS-PF-JO 1z2'!C37 -> 0 | C26: ='RS-PF-JO 1z2'!D37 -> 0 | D26: =C26-B26 -> 0
A28: ……….…….……………., ………….….202...…...r. | C28: ………………………………………………… | E28: ……………………………………………………
A29: miejscowość data | C29: osoba, której powierzono prowadzenie ksiąg rachunkowych | E29: Dyrektor jednostki
