Workbook
Name _a65542: #REF!
Name _a65542: #REF!
Name _a65542: #REF!
Name _a65542: #REF!

Sheet Załącznik nr 1a 
A1: PROJEKT PLANU FINANSOWEGO POLSKIEJ AKADEMII NAUK NA ROK 2014 (w tys. zł)
A2: Wyszczególnienie | B2: Kwota
A3: Stan środków pieniężnych na początek roku | B3: 15347
A4: Stan należności na początek roku | B4: 5520
A5: Stan zobowiązań na początek roku | B5: 5567
A6: Przychody z prowadzonej działalności | B6: 41859
A7: Pozostałe przychody | B7: 8809
A8: Dotacje z budżetu państwa lub budżetów jednostek samorządu terytorialnego | B8: =B9+B10+B11 -> 78151
A9: z tego: dotacja podmiotowa | B9: 74208
A10: dotacje celowe na inwestycje | B10: 3853
A11: inne dotacje celowe | B11: 90
A12: Koszty | B12: 132221
A13: w tym:
A14: amortyzacja | B14: 14944
A15: wynagrodzenia i składki od nich naliczane | B15: 55602
A16: płatności odsetkowe wynikające z zaciągniętych zobowiązań | B16: 62
A17: zakup towarów i usług | B17: 45416
A18: Środki na wydatki majątkowe | B18: 7388
A19: Środki przyznane innym podmiotom | B19: 2604
A20: Stan należności na koniec roku | B20: 6073
A21: Stan zobowiązań na koniec roku | B21: 6070
A22: Stan środków pieniężnych na koniec roku | B22: 16149
A24: Kanclerz
A25: Polskiej Akademii Nauk
A27: Zdzisław Hensel

Sheet Załacznik nr 1
A1: rozdział paragraf | B1: Wyszczególnienie | C1: PODZIAŁ kwot zapisanych w ustawie budżetowej na rok 2021 (w zł) | D1: Zmiany, które nie wymagają zgody dysponenta części budżetowej | E1: PODZIAŁ kwot zapisanych w ustawie budżetowej na rok 2021 po wnioskowanych zmianach (w zł)
A2: 0 | B2: 1 | C2: 2 | D2: 3 | E2: 4
A3: 73010 | B3: Działalność organów i korporacji uczonych PAN | C3: =C4 -> 16502000 | D3: =D4 -> 0 | E3: =E4 -> 16502000
A4: § 2570 | B4: Dotacja podmiotowa z budżetu dla pozostałych jednostek sektora finansów publicznych | C4: =SUM(C5:C6) -> 16502000 | D4: =SUM(D5:D6) -> 0 | E4: =SUM(E5:E6) -> 16502000
B5: Koszty działalności statutowej organów Akademii i korporacji uczonych PAN | C5: 13048000 | E5: =C5+D5 -> 13048000
B6: Wyodrębnione zadania z zakresu działalności upowszechniającej naukę | C6: 3454000 | E6: =C6+D6 -> 3454000
A7: 73011 | B7: Działalność pomocniczych jednostek naukowych i innych jednostek organizacyjnych PAN | C7: =SUM(C8:C10) -> 41919000 | D7: =SUM(D8:D10) -> 0 | E7: =SUM(E8:E10) -> 41919000
A8: § 2570 | B8: Dotacja podmiotowa z budżetu dla pozostałych jednostek sektora finansów publicznych | C8: 39417000 | E8: =C8+D8 -> 39417000
A9: § 6220 | B9: Dotacje celowe z budżetu na finansowanie lub dofinansowanie kosztów realizacji inwestycji i zakupów inwestycyjnych innych jednostek sektora finansów publicznych | C9: 135000 | E9: =C9+D9 -> 135000
A10: § 6560 | B10: Dotacje celowe przekazane z budżetu na finansowanie lub dofinansowanie zadań inwestycyjnych obiektów zabytkowych jednostkom zaliczanym do sektora finansów publicznych | C10: 2367000 | E10: =C10+D10 -> 2367000
A11: 73095 | B11: Pozostała działalność | C11: =C12+C18+C19+C20 -> 33406000 | D11: =D12++D18+D19+D20 -> 0 | E11: =E12++E18+E19+E20 -> 33406000
A12: § 2570 | B12: Dotacja podmiotowa z budżetu dla pozostałych jednostek sektora finansów publicznych | C12: =SUM(C13:C17) -> 31079300 | D12: =SUM(D13:D17) -> 0 | E12: =SUM(E13:E17) -> 31079300
B13: Działalność Kancelarii PAN | C13: 22296000 | D13: 320676 | E13: =C13+D13 -> 22616676
B14: Wyodrębnione zadania z zakresu upowszechniania i promocji działalności naukowej | C14: 1050000 | E14: =C14+D14 -> 1050000
B15: Finansowanie współpracy naukowej z zagranicą | C15: 3186000 | D15: -320676 | E15: =C15+D15 -> 2865324
B16: Program PASIFIC | C16: 3273300 | E16: =C16+D16 -> 3273300
B17: Dotacja podmiotowa dla Międzynarodowego Instytutu Biologii Molekularnej i Komórkowej | C17: 1274000 | E17: =C17+D17 -> 1274000
A18: § 2800 | B18: Dotacja celowa z budżetu dla pozostałych jednostek zaliczanych do sektora finansów publicznych | C18: 72000 | E18: =C18+D18 -> 72000
A19: § 6220 | B19: Dotacje celowe z budżetu na finansowanie lub dofinansowanie kosztów realizacji inwestycji i zakupów inwestycyjnych innych jednostek sektora finansów publicznych | C19: 2254700 | E19: =C19+D19 -> 2254700
A20: § 6560 | B20: Dotacje celowe przekazane z budżetu na finansowanie lub dofinansowanie zadań inwestycyjnych obiektów zabytkowych jednostkom zaliczanym do sektora finansów publicznych | C20: 0 | E20: =C20+D20 -> 0
B21: RAZEM DZIAŁ 730 SZKOLNICTWO WYŻSZE I NAUKA | C21: =C3+C7+C11 -> 91827000 | D21: =D3+D7+D11 -> 0 | E21: =E3+E7+E11 -> 91827000
B22: Dział 752 Obrona narodowa | C22: 5000 | E22: =C22+D22 -> 5000
B23: ŁĄCZNIE CZĘŚĆ 67 POLSKA AKADEMIA NAUK | C23: =C21+C22 -> 91832000 | D23: =D21+D22 -> 0 | E23: =E21+E22 -> 91832000

Sheet Załącznik nr 2
A1: Wyszczególnienie | B1: Dotacja podmiotowa § 2570 | C1: Zmiany, które nie wymagają zgody dysponenta części budżetowej | D1: Dotacja podmiotowa po zmianach | E1: Dotacja celowa na kształcenie § 2800 | F1: Dotacja celowa na inwestycje § 6220 | G1: Dotacja celowa na inwestycje w obiektach zabytkowych § 6560 | H1: RAZEM
A2: Pomocnicze jednostki naukowe | B2: =SUM(B3:B9) -> 27668500 | C2: =SUM(C3:C9) -> -315000 | D2: =SUM(D3:D9) -> 27353500 | E2: =SUM(E3:E9) -> 0 | F2: =SUM(F3:F9) -> 135000 | G2: =SUM(G3:G9) -> 2367000 | H2: =SUM(H3:H9) -> 29855500
A3: Biblioteka Gdańska | B3: 6646000 | D3: =B3+C3 -> 6646000 | H3: =SUM(D3:G3) -> 6646000
A4: Biblioteka Kórnicka | B4: 4933900 | D4: =B4+C4 -> 4933900 | F4: 135000 | G4: 1425000 | H4: =SUM(D4:G4) -> 6493900
A5: Archiwum w Warszawie | B5: 2106600 | C5: 54000 | D5: =B5+C5 -> 2160600 | H5: =SUM(D5:G5) -> 2160600
A6: Archiwum Nauki PAN i PAU w Krakowie | B6: 772000 | D6: =B6+C6 -> 772000 | H6: =SUM(D6:G6) -> 772000
A7: Muzeum Ziemi | B7: 3257000 | D7: =B7+C7 -> 3257000 | G7: 942000 | H7: =SUM(D7:G7) -> 4199000
A8: Polski Instytut Studiów Zaawansowanych PIASt | B8: 1878000 | C8: -110000 | D8: =B8+C8 -> 1768000 | H8: =SUM(D8:G8) -> 1768000
A9: Stacje zagraniczne | B9: =SUM(B10:B15) -> 8075000 | C9: =SUM(C10:C15) -> -259000 | D9: =SUM(D10:D15) -> 7816000 | E9: =SUM(E10:E15) -> 0 | F9: =SUM(F10:F15) -> 0 | G9: =SUM(G10:G15) -> 0 | H9: =SUM(H10:H15) -> 7816000
A10: Centrum Badań Historycznych w Berlinie | B10: 2020000 | D10: =B10+C10 -> 2020000 | H10: =SUM(D10:G10) -> 2020000
A11: Biuro Promocji Nauki PolSCA w Brukseli | B11: 1053000 | D11: =B11+C11 -> 1053000 | H11: =SUM(D11:G11) -> 1053000
A12: Przedstawicielstwo Polska Akademia Nauk w Kijowie | B12: 508000 | C12: -200000 | D12: =B12+C12 -> 308000 | H12: =SUM(D12:G12) -> 308000
A13: Stacja Naukowa w Paryżu | B13: 1757000 | C13: -59000 | D13: =B13+C13 -> 1698000 | H13: =SUM(D13:G13) -> 1698000
A14: Stacja Naukowa w Rzymie | B14: 997000 | D14: =B14+C14 -> 997000 | H14: =SUM(D14:G14) -> 997000
A15: Stacja Naukowa w Wiedniu | B15: 1740000 | D15: =B15+C15 -> 1740000 | H15: =SUM(D15:G15) -> 1740000
A16: Placówki naukowe nieposiadające osobowości prawnej | B16: =SUM(B17:B18) -> 8707500 | C16: =SUM(C17:C18) -> 75000 | D16: =SUM(D17:D18) -> 8782500 | E16: =SUM(E17:E18) -> 0 | F16: =SUM(F17:F18) -> 0 | G16: =SUM(G17:G18) -> 0 | H16: =SUM(H17:H18) -> 8782500
A17: Zakład Ichtiobiologii i Gospodarki Rybackiej | B17: 1724000 | D17: =B17+C17 -> 1724000 | H17: =SUM(D17:G17) -> 1724000
A18: Ogród Botaniczny - Centrum Zachowania Różnorodności Biologicznej | B18: 6983500 | C18: 75000 | D18: =B18+C18 -> 7058500 | H18: =SUM(D18:G18) -> 7058500
A19: Inne jednostki organizacyjne | B19: =SUM(B20:B24) -> 3041000 | C19: =SUM(C20:C24) -> 240000 | D19: =SUM(D20:D24) -> 3281000 | E19: =SUM(E20:E24) -> 0 | F19: =SUM(F20:F24) -> 0 | G19: =SUM(G20:G24) -> 0 | H19: =SUM(H20:H24) -> 3281000
A20: Dom Seniora | B20: 1684000 | C20: 70000 | D20: =B20+C20 -> 1754000 | H20: =SUM(D20:G20) -> 1754000
A21: Dom Zjazdów i Konferencji w Jabłonnie | B21: 567000 | C21: 60000 | D21: =B21+C21 -> 627000 | H21: =SUM(D21:G21) -> 627000
A22: Dom Pracy Twórczej w Wierzbie | B22: 221000 | D22: =B22+C22 -> 221000 | H22: =SUM(D22:G22) -> 221000
A23: Zakład Doświadczalny w Kórniku w likwidacji | B23: 0 | D23: =B23+C23 -> 0 | H23: =SUM(D23:G23) -> 0
A24: Zakład Działalności Pomocniczej | B24: 569000 | C24: 110000 | D24: =B24+C24 -> 679000 | H24: =SUM(D24:G24) -> 679000
A25: Inne zadania | D25: =B25+C25 -> 0 | H25: =SUM(D25:G25) -> 0
A26: Międzynarodowy Instytut Biologii Molekularnej i Komórkowej | B26: 1274000 | D26: =B26+C26 -> 1274000 | H26: =SUM(D26:G26) -> 1274000
A27: Instytuty naukowe PAN | B27: 0 | D27: =B27+C27 -> 0 | E27: 72000 | H27: =SUM(D27:G27) -> 72000
A28: Budżet realizowany centralnie - przez Kancelarię PAN, z tego: | B28: =SUM(B29:B32) -> 46307300 | C28: =SUM(C29:C32) -> 0 | D28: =SUM(D29:D32) -> 46307300 | E28: =SUM(E29:E32) -> 0 | F28: =SUM(F29:F32) -> 2254700 | G28: =SUM(G29:G32) -> 0 | H28: =SUM(H29:H32) -> 48562000
A29: Działalność organów i korporacji uczonych PAN | B29: 16502000 | D29: =B29+C29 -> 16502000 | H29: =SUM(D29:G29) -> 16502000
A30: Działalność Kancelarii PAN | B30: 23346000 | C30: 320676 | D30: =B30+C30 -> 23666676 | F30: 2200000 | H30: =SUM(D30:G30) -> 25866676
A31: Finansowanie współpracy naukowej z zagranicą | B31: 3186000 | C31: -320676 | D31: =B31+C31 -> 2865324 | H31: =SUM(D31:G31) -> 2865324
A32: Program PASIFIC | B32: 3273300 | D32: =B32+C32 -> 3273300 | F32: 54700 | H32: =SUM(D32:G32) -> 3328000
A33: RAZEM DZIAŁ 730 SZKOLNICTWO WYŻSZE I NAUKA | B33: =B2+B16+B19+B26+B27+B28+B25 -> 86998300 | C33: =C2+C16+C19+C26+C27+C28+C25 -> 0 | D33: =D2+D16+D19+D26+D27+D28+D25 -> 86998300 | E33: =E2+E16+E19+E26+E27+E28+E25 -> 72000 | F33: =F2+F16+F19+F26+F27+F28+F25 -> 2389700 | G33: =G2+G16+G19+G26+G27+G28+G25 -> 2367000 | H33: =SUM(D33:G33) -> 91827000
H35: =H2+H16+H19+H25+H26+H27+H28 -> 91827000

Sheet Załacznik nr 3
A1: rozdział paragraf | B1: Wyszczególnienie | C1: PODZIAŁ kwot zapisanych w ustawie budżetowej na rok 2021 (w zł) | D1: Zmiany wymagające zgody dysponenta części budżetowej | E1: PODZIAŁ kwot zapisanych w ustawie budżetowej na rok 2021 po wnioskowanych zmianach (w zł)
A2: 0 | B2: 1 | C2: 2 | D2: 3 | E2: 4
A3: 73010 | B3: Działalność organów i korporacji uczonych PAN | C3: =C4 -> 16502000 | D3: =D4 -> -130000 | E3: =E4 -> 16372000
A4: § 2570 | B4: Dotacja podmiotowa z budżetu dla pozostałych jednostek sektora finansów publicznych | C4: =SUM(C5:C6) -> 16502000 | D4: =SUM(D5:D6) -> -130000 | E4: =SUM(E5:E6) -> 16372000
B5: Koszty działalności statutowej organów Akademii i korporacji uczonych PAN | C5: 13048000 | E5: =C5+D5 -> 13048000
B6: Wyodrębnione zadania z zakresu działalności upowszechniającej naukę | C6: 3454000 | D6: -130000 | E6: =C6+D6 -> 3324000
A7: 73011 | B7: Działalność pomocniczych jednostek naukowych i innych jednostek organizacyjnych PAN | C7: =SUM(C8:C10) -> 41919000 | D7: =SUM(D8:D10) -> 437924 | E7: =SUM(E8:E10) -> 42356924
A8: § 2570 | B8: Dotacja podmiotowa z budżetu dla pozostałych jednostek sektora finansów publicznych | C8: 39417000 | D8: 1051924 | E8: =C8+D8 -> 40468924
A9: § 6220 | B9: Dotacje celowe z budżetu na finansowanie lub dofinansowanie kosztów realizacji inwestycji i zakupów inwestycyjnych innych jednostek sektora finansów publicznych | C9: 135000 | E9: =C9+D9 -> 135000
A10: § 6560 | B10: Dotacje celowe przekazane z budżetu na finansowanie lub dofinansowanie zadań inwestycyjnych obiektów zabytkowych jednostkom zaliczanym do sektora finansów publicznych | C10: 2367000 | D10: -614000 | E10: =C10+D10 -> 1753000
A11: 73095 | B11: Pozostała działalność | C11: =C12+C18+C19+C20 -> 33406000 | D11: =D12++D18+D19+D20 -> -307924 | E11: =E12++E18+E19+E20 -> 33098076
A12: § 2570 | B12: Dotacja podmiotowa z budżetu dla pozostałych jednostek sektora finansów publicznych | C12: =SUM(C13:C17) -> 31079300 | D12: =SUM(D13:D17) -> -679324 | E12: =SUM(E13:E17) -> 30399976
B13: Działalność Kancelarii PAN | C13: ='Załacznik nr 1'!E13 -> 22616676 | E13: =C13+D13 -> 22616676
B14: Wyodrębnione zadania z zakresu upowszechniania i promocji działalności naukowej | C14: 1050000 | E14: =C14+D14 -> 1050000
B15: Finansowanie współpracy naukowej z zagranicą | C15: ='Załacznik nr 1'!E15 -> 2865324 | D15: -679324 | E15: =C15+D15 -> 2186000
B16: Program PASIFIC | C16: 3273300 | E16: =C16+D16 -> 3273300
B17: Dotacja podmiotowa dla Międzynarodowego Instytutu Biologii Molekularnej i Komórkowej | C17: 1274000 | E17: =C17+D17 -> 1274000
A18: § 2800 | B18: Dotacja celowa z budżetu dla pozostałych jednostek zaliczanych do sektora finansów publicznych | C18: 72000 | E18: =C18+D18 -> 72000
A19: § 6220 | B19: Dotacje celowe z budżetu na finansowanie lub dofinansowanie kosztów realizacji inwestycji i zakupów inwestycyjnych innych jednostek sektora finansów publicznych | C19: 2254700 | D19: 371400 | E19: =C19+D19 -> 2626100
A20: § 6560 | B20: Dotacje celowe przekazane z budżetu na finansowanie lub dofinansowanie zadań inwestycyjnych obiektów zabytkowych jednostkom zaliczanym do sektora finansów publicznych | C20: 0 | E20: =C20+D20 -> 0
B21: RAZEM DZIAŁ 730 SZKOLNICTWO WYŻSZE I NAUKA | C21: =C3+C7+C11 -> 91827000 | D21: =D3+D7+D11 -> 0 | E21: =E3+E7+E11 -> 91827000
B22: Dział 752 Obrona narodowa | C22: 5000 | E22: =C22+D22 -> 5000
B23: ŁĄCZNIE CZĘŚĆ 67 POLSKA AKADEMIA NAUK | C23: =C21+C22 -> 91832000 | D23: =D21+D22 -> 0 | E23: =E21+E22 -> 91832000

Sheet Załącznik nr 4
A1: ZADANIA INWESTYCYJNE FINANSOWANE lub WSPÓŁFINANSOWANE ZE ŚRODKÓW DOTACJI CELOWEJ W ROKU 2021
A2: rozdział paragraf | B2: Zadanie inwestycyjne | C2: Wartość szacunkowa w złotych | D2: Zmiany wymagające zgody dysponenta części budżetowej | E2: Wartość szacunkowa w złotych po wnioskowanych zmianach
A3: 73011 | B3: Działalność pomocniczych jednostek naukowych i innych jednostek organizacyjnych PAN | C3: =SUM(C4:C9) -> 2502000 | D3: =SUM(D4:D9) -> -614000 | E3: =SUM(E4:E9) -> 1888000
A4: 6220 | B4: zakup księgozbioru Kazimierza Sabbata - Biblioteka Kórnicka | C4: 135000 | E4: =C4+D4 -> 135000
A5: 6560 | B5: budowa "dużego" mazgazynu książek w przyziemiach Pałacu Działyńskich wraz z nadzorami – Biblioteka Kórnicka | C5: 837000 | E5: =C5+D5 -> 837000
B6: rewitalizacja budynku „Klaudynówka” w Kórniku wraz z nadzorami – Biblioteka Kórnicka | C6: 588000 | D6: -588000 | E6: =C6+D6 -> 0
B7: rewitalizacja dachu w budynku Muzeum Ziemi PAN w Warszawie przy Al. Na Skarpie 20/26 wraz z nadzorami | C7: 942000 | D7: -942000 | E7: =C7+D7 -> 0
B8: przebudowa ogrodzenia przy Pałacu Działyńskich - Biblioteka Kórnicka | C8: 0 | D8: 566000 | E8: =C8+D8 -> 566000
B9: wykonanie izolacji przeciwwilgociowej murów i ścian piwnic budynku Pałacu w Jabłonnie, kontynuacja robót budowlanych (III etap) wraz z nadzorem inwestorskim i aktualizacją dokumentacji budowlano-wykonawczej | C9: 0 | D9: 350000 | E9: =C9+D9 -> 350000
A10: 73095 | B10: Pozostała działalność | C10: =SUM(C11:C13) -> 2254700 | D10: =SUM(D11:D13) -> 371400 | E10: =SUM(E11:E13) -> 2626100
A11: 6220 | B11: cyfryzacja procesów back-office – ZSI PAN | C11: 2000000 | D11: 221400 | E11: =C11+D11 -> 2221400
B12: zakup infrastruktury informatycznej i oprogramowania | C12: 254700 | D12: 150000 | E12: =C12+D12 -> 404700
A13: 6560 | B13: wykonanie drenażu opaskowego wokół budynku Akademii położonego w Gdańsku przy ul. Jaśkowa Dolina 31 oraz kanalizacji deszczowej wraz z nadzorami – siedziba Oddziału PAN w Gdańsku | E13: =C13+D13 -> 0
A14: OGÓŁEM CZĘŚĆ 67 Polska Akademia Nauk | C14: =C3+C10 -> 4756700 | D14: =D3+D10 -> -242600 | E14: =E3+E10 -> 4514100
E17: =E14-C14 -> -242600

Sheet Załącznik nr 5
A1: Wyszczególnienie | B1: Dotacja podmiotowa § 2570 | C1: Zmiany wymagające zgody dysponenta części budżetowej | D1: Dotacja podmiotowa po zmianach | E1: Dotacja celowa na kształcenie § 2800 | F1: Dotacja celowa na wkład własny § 2009 | G1: Dotacja celowa na inwestycje § 6220 | H1: Zmiany wymagające zgody dysponenta części budżetowej | I1: Dotacja celowa na inwestycje § 6220 po wnioskowanych zmianach | J1: Dotacja celowa na inwestycje w obiektach zabytkowych § 6560 | K1: Zmiany wymagające zgody dysponenta części budżetowej | L1: Dotacja celowa na inwestycje w obiektach zabytkowych § 6560 po wnioskowanych zmianach | M1: RAZEM
A2: Pomocnicze jednostki naukowe | B2: =SUM(B3:B9) -> 27353500 | C2: =SUM(C3:C9) -> 249830 | D2: =SUM(D3:D9) -> 27603330 | E2: =SUM(E3:E9) -> 0 | F2: =SUM(F3:F9) -> 0 | G2: =SUM(G3:G9) -> 135000 | H2: =SUM(H3:H9) -> 0 | I2: =SUM(I3:I9) -> 135000 | ... M2: =SUM(M3:M9) -> 29141330
A3: Biblioteka Gdańska | B3: ='Załącznik nr 2'!D3 -> 6646000 | D3: =B3+C3 -> 6646000 | I3: =G3+H3 -> 0 | M3: =D3+E3+F3+I3+L3 -> 6646000
A4: Biblioteka Kórnicka | B4: ='Załącznik nr 2'!D4 -> 4933900 | C4: 83630 | D4: =B4+C4 -> 5017530 | G4: 135000 | I4: =G4+H4 -> 135000 | J4: 1425000 | K4: =-588000+566000 -> -22000 | L4: =J4+K4 -> 1403000 | M4: =D4+E4+F4+I4+L4 -> 6555530
A5: Archiwum w Warszawie | B5: ='Załącznik nr 2'!D5 -> 2160600 | D5: =B5+C5 -> 2160600 | I5: =G5+H5 -> 0 | M5: =D5+E5+F5+I5+L5 -> 2160600
A6: Archiwum Nauki PAN i PAU w Krakowie | B6: ='Załącznik nr 2'!D6 -> 772000 | D6: =B6+C6 -> 772000 | M6: =D6+E6+F6+I6+L6 -> 772000
A7: Muzeum Ziemi | B7: ='Załącznik nr 2'!D7 -> 3257000 | D7: =B7+C7 -> 3257000 | I7: =G7+H7 -> 0 | J7: 942000 | K7: -942000 | L7: =J7+K7 -> 0 | M7: =D7+E7+F7+I7+L7 -> 3257000
A8: Polski Instytut Studiów Zaawansowanych PIASt | B8: ='Załącznik nr 2'!D8 -> 1768000 | D8: =B8+C8 -> 1768000 | M8: =D8+E8+F8+I8+L8 -> 1768000
A9: Stacje zagraniczne | B9: =SUM(B10:B15) -> 7816000 | C9: =SUM(C10:C15) -> 166200 | D9: =SUM(D10:D15) -> 7982200 | E9: =SUM(E10:E15) -> 0 | F9: =SUM(F10:F15) -> 0 | G9: =SUM(G10:G15) -> 0 | H9: =SUM(H10:H15) -> 0 | I9: =SUM(I10:I15) -> 0 | ... L9: =SUM(L10:L15) -> 0 | M9: =D9+E9+F9+I9+L9 -> 7982200
A10: Centrum Badań Historycznych w Berlinie | B10: ='Załącznik nr 2'!D10 -> 2020000 | D10: =B10+C10 -> 2020000 | M10: =D10+E10+F10+I10+L10 -> 2020000
A11: Biuro Promocji Nauki PolSCA w Brukseli | B11: ='Załącznik nr 2'!D11 -> 1053000 | D11: =B11+C11 -> 1053000 | M11: =D11+E11+F11+I11+L11 -> 1053000
A12: Przedstawicielstwo Polska Akademia Nauk w Kijowie | B12: ='Załącznik nr 2'!D12 -> 308000 | D12: =B12+C12 -> 308000 | M12: =D12+E12+F12+I12+L12 -> 308000
A13: Stacja Naukowa w Paryżu | B13: ='Załącznik nr 2'!D13 -> 1698000 | D13: =B13+C13 -> 1698000 | M13: =D13+E13+F13+I13+L13 -> 1698000
A14: Stacja Naukowa w Rzymie | B14: ='Załącznik nr 2'!D14 -> 997000 | C14: 127700 | D14: =B14+C14 -> 1124700 | M14: =D14+E14+F14+I14+L14 -> 1124700
A15: Stacja Naukowa w Wiedniu | B15: ='Załącznik nr 2'!D15 -> 1740000 | C15: 38500 | D15: =B15+C15 -> 1778500 | M15: =D15+E15+F15+I15+L15 -> 1778500
A16: Placówki naukowe nieposiadające osobowości prawnej | B16: =SUM(B17:B18) -> 8782500 | C16: =SUM(C17:C18) -> 573100 | D16: =SUM(D17:D18) -> 9355600 | E16: =SUM(E17:E18) -> 0 | F16: =SUM(F17:F18) -> 0 | G16: =SUM(G17:G18) -> 0 | H16: =SUM(H17:H18) -> 0 | I16: =SUM(I17:I18) -> 0 | ... M16: =SUM(M17:M18) -> 9355600
A17: Zakład Ichtiobiologii i Gospodarki Rybackiej | B17: ='Załącznik nr 2'!D17 -> 1724000 | C17: 330100 | D17: =B17+C17 -> 2054100 | I17: =G17+H17 -> 0 | M17: =D17+E17+F17+I17+L17 -> 2054100
A18: Ogród Botaniczny - Centrum Zachowania Różnorodności Biologicznej | B18: ='Załącznik nr 2'!D18 -> 7058500 | C18: 243000 | D18: =B18+C18 -> 7301500 | I18: =G18+H18 -> 0 | M18: =D18+E18+F18+I18+L18 -> 7301500
A19: Inne jednostki organizacyjne | B19: =SUM(B20:B24) -> 3281000 | C19: =SUM(C20:C24) -> 228994 | D19: =SUM(D20:D24) -> 3509994 | E19: =SUM(E20:E24) -> 0 | F19: =SUM(F20:F24) -> 0 | G19: =SUM(G20:G24) -> 0 | H19: =SUM(H20:H24) -> 0 | I19: =SUM(I20:I24) -> 0 | ... M19: =SUM(M20:M24) -> 3859994
A20: Dom Seniora | B20: ='Załącznik nr 2'!D20 -> 1754000 | C20: 70000 | D20: =B20+C20 -> 1824000 | I20: =G20+H20 -> 0 | M20: =D20+E20+F20+I20+L20 -> 1824000
A21: Dom Zjazdów i Konferencji w Jabłonnie | B21: ='Załącznik nr 2'!D21 -> 627000 | C21: 60000 | D21: =B21+C21 -> 687000 | K21: 350000 | L21: =J21+K21 -> 350000 | M21: =D21+E21+F21+I21+L21 -> 1037000
A22: Dom Pracy Twórczej w Wierzbie | B22: ='Załącznik nr 2'!D22 -> 221000 | D22: =B22+C22 -> 221000 | M22: =D22+E22+F22+I22+L22 -> 221000
A23: Zakład Doświadczalny w Kórniku w likwidacji | B23: ='Załącznik nr 2'!D23 -> 0 | D23: =B23+C23 -> 0 | M23: =D23+E23+F23+I23+L23 -> 0
A24: Zakład Działalności Pomocniczej | B24: ='Załącznik nr 2'!D24 -> 679000 | C24: 98994 | D24: =B24+C24 -> 777994 | I24: =G24+H24 -> 0 | L24: =J24+K24 -> 0 | M24: =D24+E24+F24+I24+L24 -> 777994
A25: Inne zadania | B25: 0 | D25: =B25+C25 -> 0 | M25: =D25+E25+F25+I25+L25 -> 0
A26: Międzynarodowy Instytut Biologii Molekularnej i Komórkowej | B26: ='Załącznik nr 2'!D26 -> 1274000 | D26: =B26+C26 -> 1274000 | M26: =D26+E26+F26+I26+L26 -> 1274000
A27: Instytuty naukowe PAN | B27: ='Załącznik nr 2'!D27 -> 0 | D27: =B27+C27 -> 0 | E27: 72000 | M27: =D27+E27+F27+I27+L27 -> 72000
A28: Budżet realizowany centralnie - przez Kancelarię PAN, z tego: | B28: =SUM(B29:B32) -> 46307300 | C28: =SUM(C29:C32) -> -809324 | D28: =SUM(D29:D32) -> 45497976 | E28: =SUM(E29:E32) -> 0 | F28: =SUM(F29:F32) -> 0 | G28: =SUM(G29:G32) -> 2254700 | H28: =SUM(H29:H32) -> 371400 | I28: =SUM(I29:I32) -> 2626100 | ... M28: =SUM(M29:M32) -> 48124076
A29: Działalność organów i korporacji uczonych PAN | B29: ='Załącznik nr 2'!D29 -> 16502000 | C29: -130000 | D29: =B29+C29 -> 16372000 | M29: =D29+E29+F29+I29+L29 -> 16372000
A30: Działalność Kancelarii PAN | B30: ='Załącznik nr 2'!D30 -> 23666676 | D30: =B30+C30 -> 23666676 | G30: 2200000 | H30: =221400+150000 -> 371400 | I30: =G30+H30 -> 2571400 | L30: =J30+K30 -> 0 | M30: =D30+E30+F30+I30+L30 -> 26238076
A31: Finansowanie współpracy naukowej z zagranicą | B31: ='Załącznik nr 2'!D31 -> 2865324 | C31: -679324 | D31: =B31+C31 -> 2186000 | M31: =D31+E31+F31+I31+L31 -> 2186000
A32: Program PASIFIC | B32: ='Załącznik nr 2'!D32 -> 3273300 | D32: =B32+C32 -> 3273300 | G32: 54700 | I32: =G32+H32 -> 54700 | M32: =D32+E32+F32+I32+L32 -> 3328000
A33: RAZEM DZIAŁ 730 SZKOLNICTWO WYŻSZE I NAUKA | B33: =B2+B16+B19+B26+B27+B28+B25 -> 86998300 | C33: =C2+C16+C19+C26+C27+C28+C25 -> 242600 | D33: =D2+D16+D19+D26+D27+D28+D25 -> 87240900 | E33: =E2+E16+E19+E26+E27+E28+E25 -> 72000 | F33: =F2+F16+F19+F26+F27+F28+F25 -> 0 | G33: =G2+G16+G19+G26+G27+G28+G25 -> 2389700 | H33: =H2+H16+H19+H26+H27+H28+H25 -> 371400 | I33: =I2+I16+I19+I26+I27+I28+I25 -> 2761100 | ... M33: =M2+M16+M19+M26+M27+M28+M25 -> 91827000
M36: =M29 -> 16372000
M37: =M2-M8-M9+M16+M19+M27+M30 -> 58916800
M38: =M8+M9+M26+M31+M32 -> 16538200

Sheet Zał nr 1 pomocniczy
A1: rozdział paragraf | B1: Wyszczególnienie | C1: Decyzja Nr 54/2016 Prezesa PAN z 22.12.2016 r. | D1: Zwiększenie budżetu w trakcie prac parlamentarnych | E1: Zmiany wnioskowane przez dysponetów | F1: PODZIAŁ kwot zapisanych w ustawie budżetowej na rok 2016 (w zł) | G1: w tym:
G2: na wyodrębnione zadania z zakresu działalności upowszechniającej naukę (DUN) (w zł)
A3: 0 | B3: 1 | F3: 2 | G3: 3
A4: 73010 | B4: Działalność organów i korporacji uczonych PAN | C4: =C5 -> 17889000 | D4: =D5 -> 0 | E4: =E5 -> 0 | F4: =F5 -> 17889000 | G4: =G5 -> 0
A5: § 2570 | B5: Dotacja podmiotowa z budżetu dla pozostałych jednostek sektora finansów publicznych | C5: =SUM(C6:C7) -> 17889000 | D5: =SUM(D6:D7) -> 0 | E5: =SUM(E6:E7) -> 0 | F5: =SUM(F6:F7) -> 17889000
B6: Koszty działalności statutowej organów Akademii i korporacji uczonych PAN | C6: 13959000 | F6: =C6+D6+E6 -> 13959000
B7: Wyodrębnione zadania z zakresu działalności upowszechniającej naukę | C7: 3930000 | F7: =C7+D7+E7 -> 3930000
A8: 73011 | B8: Działalność pomocniczych jednostek naukowych i innych jednostek organizacyjnych PAN | C8: =SUM(C9:C13) -> 35874000 | D8: =SUM(D9:D13) -> 0 | E8: =SUM(E9:E13) -> 0 | F8: =SUM(F9:F13) -> 35874000
A9: § 2570 | B9: Dotacja podmiotowa z budżetu dla pozostałych jednostek sektora finansów publicznych | C9: 32677000 | F9: =C9+D9+E9 -> 32677000
A10: § 6220 | B10: Dotacje celowe z budżetu na finansowanie lub dofinansowanie kosztów realizacji inwestycji i zakupów inwestycyjnych innych jednostek sektora finansów publicznych | F10: =C10+D10+E10 -> 0
A11: § 6560 | B11: Dotacje celowe przekazane z budżetu na finansowanie lub dofinansowanie zadań inwestycyjnych obiektów zabytkowych jednostkom zaliczanym do sektora finansów publicznych | C11: 2800000 | F11: =C11+D11+E11 -> 2800000
A12: § 2009 | B12: Dotacje celowe w ramach programów finansowanych z udziałem środków europejskich oraz środków, o których mowa w art. 5 ust. 1 pkt 3 oraz ust. 3 pkt 5 i 6 ustawy, lub płatności w ramach budżetu środków europejskich, z wyłączeniem wydatków klasyfikowanych w paragrafie 205 | C12: 305000 | F12: =C12+D12+E12 -> 305000
A13: § 6209 | B13: Dotacje celowe w ramach programów finansowanych z udziałem środków europejskich oraz środków, o których mowa w art. 5 ust. 1 pkt 3 oraz ust. 3 pkt 5 i 6 ustawy, lub płatności w ramach budżetu środków europejskich, z wyłączeniem wydatków klasyfikowanych w paragrafie 625 | C13: 92000 | F13: =C13+D13+E13 -> 92000
A14: 73095 | B14: Pozostała działalność | C14: =C15+C20+C21 -> 27800000 | D14: =D15+D20+D21 -> 0 | E14: =E15+E20+E21 -> 0 | F14: =F15+F20+F21 -> 27800000 | G14: =G15+G21 -> 0
A15: § 2570 | B15: Dotacja podmiotowa z budżetu dla pozostałych jednostek sektora finansów publicznych | C15: =SUM(C16:C19) -> 27150000 | D15: =SUM(D16:D19) -> 0 | E15: =SUM(E16:E19) -> 0 | F15: =SUM(F16:F19) -> 27150000
B16: Działalność Kancelarii PAN | C16: 19846000 | F16: =C16+D16+E16 -> 19846000
B17: Finansowanie współpracy naukowej z zagranicą | C17: 3470000 | F17: =C17+D17+E17 -> 3470000
B18: Wyodrębnione zadania z zakresu działalności upowszechniającej naukę | C18: 1230000 | F18: =C18+D18+E18 -> 1230000
B19: Dotacje podmiotowe dla instytutów międzynarodowych | C19: 2604000 | F19: =C19+D19+E19 -> 2604000
A20: § 2800 | B20: Dotacja celowa z budżetu dla pozostałych jednostek zaliczanych do sektora finansów publicznych | C20: 250000 | F20: =C20+D20+E20 -> 250000
A21: § 6220 | B21: Dotacje celowe z budżetu na finansowanie lub dofinansowanie kosztów realizacji inwestycji i zakupów inwestycyjnych innych jednostek sektora finansów publicznych | C21: 400000 | F21: =C21+D21+E21 -> 400000
B22: ŁĄCZNIE CZĘŚĆ 67 POLSKA AKADEMIA NAUK | C22: =C4+C8+C14 -> 81563000 | D22: =D4+D8+D14 -> 0 | E22: =E4+E8+E14 -> 0 | F22: =F4+F8+F14 -> 81563000 | G22: =G4+G8+G14 -> 0

Sheet zadaniowy
A1: Projekt budżetu państwa na rok 2017 w części 67 PAN w układzie zadaniowym (w tys. zł)
A2: Zadanie | B2: Podzadanie | C2: Działanie | D2: Poddziałanie *) | E2: Rozdział | F2: §§ | G2: Treść | H2: Projekt ustawy na 2017 rok | I2: Zgodność z ustawą budżetową na 2017 rok
A3: 10.1. | G3: Prowadzenie badań naukowych oraz upowszechnianie, promocja i popularyzacja nauki | H3: =H4 -> 81563
B4: 10.1.3 | G4: Upowszechnianie, promocja oraz popularyzacja nauki | H4: =H5 -> 81563 | I4: =I5 -> #REF!
C5: 10.1.3.1 | G5: Działalność Polskiej Akademii Nauk | H5: =SUM(H6:H18) -> 81563 | I5: =I6+I7+I18 -> #REF!
D6: 10.1.3.1.1 | E6: 73010 | F6: 2570 | G6: Działalność organów i korporacji uczonych Polskiej Akademii Nauk | H6: 17889 | I6: =#REF!/1000 -> #REF!
D7: 10.1.3.1.2 | G7: Działalność Kancelarii i krajowych jednostek organizacyjnych Polskiej Akademii Nauk | H7: 48732 | I7: =SUM(I8:I17) -> #REF! | J7: =I7-H7 -> #REF!
E8: 73011 | F8: 2570 | G8: krajowe jednostki | I8: =(#REF!-#REF!)/1000 -> #REF!
E9: 73011 | F9: 2570 | G9: DUN (nierozdysponowane)
E10: 73011 | F10: 6220 | G10: krajowe jednostki | I10: =(#REF!-#REF!)/1000 -> #REF!
E11: 73011 | F11: 6560 | G11: krajowe jednostki | I11: =(#REF!-#REF!)/1000 -> #REF!
E12: 73011 | F12: 2009 | G12: dotacja celowa na wkład własny (nierozdysponowane) | I12: =#REF!/1000 -> #REF!
E13: 73011 | F13: 6209 | G13: dotacja celowa na wkład własny (nierozdysponowane) | I13: =#REF!/1000 -> #REF!
E14: 73095 | F14: 2570 | G14: Kancelaria | I14: =#REF!/1000 -> #REF!
E15: 73095 | F15: 2570 | G15: DUN | I15: =#REF!/1000 -> #REF!
E16: 73095 | F16: 2800 | G16: dotacje na kształcenie | I16: =#REF!/1000 -> #REF!
E17: 73095 | F17: 6560 | G17: Kancelaria | I17: =#REF!/1000 -> #REF!
D18: 10.1.3.1.3 | G18: Wspieranie aktywności Polskiej Akademii Nauk na forum międzynarodowym | H18: 14942 | I18: =SUM(I19:I24) -> #REF! | J18: =I18-H18 -> #REF!
E19: 73011 | F19: 2570 | G19: stacje zagraniczne | I19: =#REF!/1000 -> #REF!
E20: 73011 | F20: 2570 | G20: DUN (nierozdysponowane)
E21: 73011 | F21: 6220 | G21: stacje zagraniczne | I21: =#REF!/1000 -> #REF!
E22: 73011 | F22: 6560 | G22: stacje zagraniczne | I22: =#REF!/1000 -> #REF!
E23: 73095 | F23: 2570 | G23: BWZ | I23: =#REF!/1000 -> #REF!
E24: 73095 | F24: 2570 | G24: instytuty miedzynarodowe | I24: =#REF!/1000 -> #REF!
A25: OGÓŁEM CZĘŚĆ 67 POLSKA AKADEMIA NAUK | H25: =H3 -> 81563 | I25: =I6+I7+I18 -> #REF!
A27: *) w roku 2016 zgodnie z ustalonym przez Ministra Finansów układem budżetu zadaniowego działalność Akademii wpisuje się w funkcji 10 Nauka polska w jedno działanie 10.1.3.1 Finansowanie działalności Polskiej Akademii Nauk. Podobnie jak w latach poprzednich działanie to zostało rozpisane na 3 poddziałania.
